BEGIN:VCALENDAR
VERSION:2.0
PRODID:-//Social Services Foundation - ECPv6.15.20//NONSGML v1.0//EN
CALSCALE:GREGORIAN
METHOD:PUBLISH
X-WR-CALNAME:Social Services Foundation
X-ORIGINAL-URL:https://mas-ssf.org
X-WR-CALDESC:Events for Social Services Foundation
REFRESH-INTERVAL;VALUE=DURATION:PT1H
X-Robots-Tag:noindex
X-PUBLISHED-TTL:PT1H
BEGIN:VTIMEZONE
TZID:America/Los_Angeles
BEGIN:DAYLIGHT
TZOFFSETFROM:-0800
TZOFFSETTO:-0700
TZNAME:PDT
DTSTART:20230312T100000
END:DAYLIGHT
BEGIN:STANDARD
TZOFFSETFROM:-0700
TZOFFSETTO:-0800
TZNAME:PST
DTSTART:20231105T090000
END:STANDARD
BEGIN:DAYLIGHT
TZOFFSETFROM:-0800
TZOFFSETTO:-0700
TZNAME:PDT
DTSTART:20240310T100000
END:DAYLIGHT
BEGIN:STANDARD
TZOFFSETFROM:-0700
TZOFFSETTO:-0800
TZNAME:PST
DTSTART:20241103T090000
END:STANDARD
BEGIN:DAYLIGHT
TZOFFSETFROM:-0800
TZOFFSETTO:-0700
TZNAME:PDT
DTSTART:20250309T100000
END:DAYLIGHT
BEGIN:STANDARD
TZOFFSETFROM:-0700
TZOFFSETTO:-0800
TZNAME:PST
DTSTART:20251102T090000
END:STANDARD
BEGIN:DAYLIGHT
TZOFFSETFROM:-0800
TZOFFSETTO:-0700
TZNAME:PDT
DTSTART:20260308T100000
END:DAYLIGHT
BEGIN:STANDARD
TZOFFSETFROM:-0700
TZOFFSETTO:-0800
TZNAME:PST
DTSTART:20261101T090000
END:STANDARD
END:VTIMEZONE
BEGIN:VEVENT
DTSTART;TZID=America/Los_Angeles:20240828T160000
DTEND;TZID=America/Los_Angeles:20240828T190000
DTSTAMP:20260419T064616
CREATED:20240716T183207Z
LAST-MODIFIED:20240821T223533Z
UID:5327-1724860800-1724871600@mas-ssf.org
SUMMARY:The Omid for Afghans Program and Asian Resources\, Inc. (ARI) Present a New Workshop
DESCRIPTION:Navigating the California Job Market: A Guide for New Arrivals \nGuest Speakers Ajmal Safi\, Assistant Site Supervisor and Sultan Mohammad Hamayoun\, Employment Services Specialist\, Refugee Program \nfrom ARI will talk about Employment and Personal Well-being and more! \nRegister using the QR code below or at https://bitly.masssfjobs \nMUST REGISTER IN ADVANCE \n \n  \n 
URL:https://mas-ssf.org/event/sacramento-county-mas-ssf-invite-you-to-register-today/
LOCATION:1616 Del Paso Blvd.\, Sacamento 95815\, 1616 Del Paso Blvd.\, Sacramento\, CA\, 95816\, United States
CATEGORIES:Afghan,Afghanistan,Event,Health,Women
ATTACH;FMTTYPE=image/jpeg:https://mas-ssf.org/wp-content/uploads/2024/07/Omid-8-28-social-media.jpg
ORGANIZER;CN="MAS-SSF":MAILTO:info@mas-ssf.org
END:VEVENT
BEGIN:VEVENT
DTSTART;TZID=America/Los_Angeles:20240915T150000
DTEND;TZID=America/Los_Angeles:20240915T180000
DTSTAMP:20260419T064616
CREATED:20240905T191120Z
LAST-MODIFIED:20240905T191142Z
UID:5383-1726412400-1726423200@mas-ssf.org
SUMMARY:MAS-SSF\, ICNA and MCF Invite You to Participate in an Interactive Mental Health Session
DESCRIPTION:We will be discussing:  “Delirium\, Dementia\, and Alzheimers: Knowing the Basics” \nLive translation will be available in Dari/Farsi\, Pashto\, Urdu\, and Arabic during the presentation and event. \nRegister using the QR code below or at https://bit.ly/SeniorDay0924
URL:https://mas-ssf.org/event/mas-ssf-icna-and-mcf-invite-you-to-participate-in-an-interactive-mental-health-session/
LOCATION:Muslim Community of Folsom\, 391 S Lexington Dr #120\, Folsom\, CA\, 95630\, United States
CATEGORIES:Afghan,Afghanistan,Event,Health,Mental Health,Senior,Women
ATTACH;FMTTYPE=image/png:https://mas-ssf.org/wp-content/uploads/2024/09/English-9-15-Senior-Day.png
ORGANIZER;CN="MAS-SSF":MAILTO:info@mas-ssf.org
END:VEVENT
BEGIN:VEVENT
DTSTART;TZID=America/Los_Angeles:20241220T150000
DTEND;TZID=America/Los_Angeles:20241220T210000
DTSTAMP:20260419T064616
CREATED:20241211T184928Z
LAST-MODIFIED:20241211T184928Z
UID:5471-1734706800-1734728400@mas-ssf.org
SUMMARY:Join Us in Celebrating the Successes of Newly Arrived Afghans
DESCRIPTION:MAS-SSF’s Omid for Afghans Program is hosting an event on Friday\, December 20th. We appreciate the resilience and hard work shown by newly arrived Afghans and believe that shining a light on their successes will serve as an inspiration for others to follow. We are asking you to nominate Afghans who have succeeded in their journey since arriving in the US since July 2021 and join the Celebration! \nNomination Form:  https://bit.ly/3D25ma3 Please nominate by December 15—thank you! \nEvent Registration:  https://bit.ly/4ifS4Hp Register by December 19
URL:https://mas-ssf.org/event/join-us-in-celebrating-the-successes-of-newly-arrived-afghans/
LOCATION:Citrus Heights Community Center\, 6300 Fountain Square Dr.\, Citrus Heights\, CA\, 95621\, United States
CATEGORIES:Afghan,Afghanistan,Event,Game Night,Health,Mental Health
ATTACH;FMTTYPE=image/jpeg:https://mas-ssf.org/wp-content/uploads/2024/12/12-20-MAS-SSF-Omid-English-Flyer.jpg
ORGANIZER;CN="MAS-SSF":MAILTO:info@mas-ssf.org
END:VEVENT
BEGIN:VEVENT
DTSTART;TZID=America/Los_Angeles:20250222T180000
DTEND;TZID=America/Los_Angeles:20250222T220000
DTSTAMP:20260419T064616
CREATED:20250108T183328Z
LAST-MODIFIED:20250108T183328Z
UID:5494-1740247200-1740261600@mas-ssf.org
SUMMARY:You’re Invited:  MAS-SSF Fundraising Banquet
DESCRIPTION: 
URL:https://mas-ssf.org/event/youre-invited-mas-ssf-fundraising-banquet/
LOCATION:Town and Country Event Center\, 111354 White Rock Rd. #120\, Rancho Cordova\, 95742\, United States
CATEGORIES:Afghan,Afghanistan,Event,Fundraiser,Health,Mental Health
ATTACH;FMTTYPE=image/jpeg:https://mas-ssf.org/wp-content/uploads/2024/12/12-20-MAS-SSF-Omid-English-Flyer.jpg
ORGANIZER;CN="MAS-SSF":MAILTO:info@mas-ssf.org
END:VEVENT
END:VCALENDAR