BEGIN:VCALENDAR
VERSION:2.0
PRODID:-//Social Services Foundation - ECPv6.15.20//NONSGML v1.0//EN
CALSCALE:GREGORIAN
METHOD:PUBLISH
X-WR-CALNAME:Social Services Foundation
X-ORIGINAL-URL:https://mas-ssf.org
X-WR-CALDESC:Events for Social Services Foundation
REFRESH-INTERVAL;VALUE=DURATION:PT1H
X-Robots-Tag:noindex
X-PUBLISHED-TTL:PT1H
BEGIN:VTIMEZONE
TZID:America/Los_Angeles
BEGIN:DAYLIGHT
TZOFFSETFROM:-0800
TZOFFSETTO:-0700
TZNAME:PDT
DTSTART:20190310T100000
END:DAYLIGHT
BEGIN:STANDARD
TZOFFSETFROM:-0700
TZOFFSETTO:-0800
TZNAME:PST
DTSTART:20191103T090000
END:STANDARD
BEGIN:DAYLIGHT
TZOFFSETFROM:-0800
TZOFFSETTO:-0700
TZNAME:PDT
DTSTART:20200308T100000
END:DAYLIGHT
BEGIN:STANDARD
TZOFFSETFROM:-0700
TZOFFSETTO:-0800
TZNAME:PST
DTSTART:20201101T090000
END:STANDARD
BEGIN:DAYLIGHT
TZOFFSETFROM:-0800
TZOFFSETTO:-0700
TZNAME:PDT
DTSTART:20210314T100000
END:DAYLIGHT
BEGIN:STANDARD
TZOFFSETFROM:-0700
TZOFFSETTO:-0800
TZNAME:PST
DTSTART:20211107T090000
END:STANDARD
END:VTIMEZONE
BEGIN:VEVENT
DTSTART;TZID=America/Los_Angeles:20201014T171500
DTEND;TZID=America/Los_Angeles:20201014T190000
DTSTAMP:20260423T033709
CREATED:20201011T153310Z
LAST-MODIFIED:20201011T191527Z
UID:2092-1602695700-1602702000@mas-ssf.org
SUMMARY:Voices of Change
DESCRIPTION:Voices of Change | Remembering the Victims and Healing the Community \nThe Muslim American Society Social Services Foundation would like to honor the victims and provide comfort to the families lost in our beloved Afghan community. We will focus on healing as a community while standing in solidarity with one another. \nA community Dua’a will be held and local organizations will be present to share resources and provide support. \nDate: Wednesday\, October 14th\, 5:15 pm – 7 pm (Please arrive on time) \nLocation: Masjid Annur Islamic Center\, 6990 65th Street\, Sacramento\, CA 95823 \nRSVP is Mandatory – voices-of-change.eventbrite.com \nRegistration is mandatory – Due to COVID-19 regulations\, only 100 people will be allowed in person. Everyone else will be asked to remain in their cars. \nBroadcasted on Facebook Live @MASSSFSAC \nRSVP Today
URL:https://mas-ssf.org/event/voices-of-change/
LOCATION:Masjid Annur Islamic Center\, 6990 65th Street\, Sacramento\, CA\, 95823\, United States
CATEGORIES:Event,Healing
END:VEVENT
END:VCALENDAR